BEGIN:VCALENDAR
VERSION:2.0
PRODID:-//Kennebunkport Historical Society - ECPv6.0.13//NONSGML v1.0//EN
CALSCALE:GREGORIAN
METHOD:PUBLISH
X-ORIGINAL-URL:https://kporths.com
X-WR-CALDESC:Events for Kennebunkport Historical Society
REFRESH-INTERVAL;VALUE=DURATION:PT1H
X-Robots-Tag:noindex
X-PUBLISHED-TTL:PT1H
BEGIN:VTIMEZONE
TZID:UTC
BEGIN:STANDARD
TZOFFSETFROM:+0000
TZOFFSETTO:+0000
TZNAME:UTC
DTSTART:20240101T000000
END:STANDARD
END:VTIMEZONE
BEGIN:VEVENT
DTSTART;TZID=UTC:20241207T100000
DTEND;TZID=UTC:20241207T160000
DTSTAMP:20260423T021727
CREATED:20230927T143502Z
LAST-MODIFIED:20240920T143510Z
UID:20780-1733565600-1733587200@kporths.com
SUMMARY:Cookie Decorating with Mrs. Claus!
DESCRIPTION:Cookie Decorating with Mrs. Claus!\nLocated at the Town House School\n135 North St. in Kennebunkport\n\nCome join us for a fun-filled day of cookie decorating with Mrs. Claus! \nGet into the festive spirit and unleash your creativity as you decorate delicious cookies alongside Mrs. Claus herself! Ticket price of $15 is for one person (cookies\, cookie boxes\, decorating materials & story time with Mrs. Claus). \nBring your family and friends and enjoy a morning of laughter\, holiday music\, and sweet treats. Mrs. Claus will guide you through various decorating techniques\, providing tips and tricks along the way\, and read Christmas stories! You’ll have the chance to create your own edible masterpieces using an array of colorful icings\, sprinkles\, and other festive decorations. \nTickets are sold in 30 minute increments. Adult supervision required. \nClick HERE to get your tickets!
URL:https://kporths.com/event/cookie-decorating-with-mrs-claus-4/
LOCATION:Town House School\, 135 North Street\, Kennebunkport\, 04046\, United States
CATEGORIES:For Kids,Prelude
END:VEVENT
END:VCALENDAR