BEGIN:VCALENDAR
VERSION:2.0
PRODID:-//Kennebunkport Historical Society - ECPv6.0.13//NONSGML v1.0//EN
CALSCALE:GREGORIAN
METHOD:PUBLISH
X-ORIGINAL-URL:https://kporths.com
X-WR-CALDESC:Events for Kennebunkport Historical Society
REFRESH-INTERVAL;VALUE=DURATION:PT1H
X-Robots-Tag:noindex
X-PUBLISHED-TTL:PT1H
BEGIN:VTIMEZONE
TZID:UTC
BEGIN:STANDARD
TZOFFSETFROM:+0000
TZOFFSETTO:+0000
TZNAME:UTC
DTSTART:20190101T000000
END:STANDARD
END:VTIMEZONE
BEGIN:VEVENT
DTSTART;TZID=UTC:20190923T090000
DTEND;TZID=UTC:20190923T130000
DTSTAMP:20260425T121300
CREATED:20190823T155717Z
LAST-MODIFIED:20190823T155722Z
UID:15628-1569229200-1569243600@kporths.com
SUMMARY:19th Annual Golf Tournament
DESCRIPTION:Join us for the Society’s 19th Annual Golf Tournament at Cape Arundel Golf Club. To register call 207-967-2751.
URL:https://kporths.com/event/19th-annual-golf-tournament/
LOCATION:ME\, United States
CATEGORIES:Fundraiser
END:VEVENT
END:VCALENDAR