BEGIN:VCALENDAR
VERSION:2.0
PRODID:-//Kennebunkport Historical Society - ECPv6.0.13//NONSGML v1.0//EN
CALSCALE:GREGORIAN
METHOD:PUBLISH
X-ORIGINAL-URL:https://kporths.com
X-WR-CALDESC:Events for Kennebunkport Historical Society
REFRESH-INTERVAL;VALUE=DURATION:PT1H
X-Robots-Tag:noindex
X-PUBLISHED-TTL:PT1H
BEGIN:VTIMEZONE
TZID:UTC
BEGIN:STANDARD
TZOFFSETFROM:+0000
TZOFFSETTO:+0000
TZNAME:UTC
DTSTART:20220101T000000
END:STANDARD
END:VTIMEZONE
BEGIN:VEVENT
DTSTART;TZID=UTC:20221014T000000
DTEND;TZID=UTC:20221015T233000
DTSTAMP:20260422T213010
CREATED:20220826T160428Z
LAST-MODIFIED:20221014T145002Z
UID:18428-1665705600-1665876600@kporths.com
SUMMARY:1st Annual Scarecrow Contest!
DESCRIPTION:1st Annual Scarecrow Contest\nOctober 14th-15th\nCelebrate our 70th anniversary at our fall family festival!\n \n\nPlease note the following changes to this weekend’s schedule: \nOur scarecrow contest has moved to White Columns instead of the town house corners campus. Scarecrows can be set up on the covered front porch because of the expected rain. Participants should have scarecrows displayed by 2pm. \nKennebunkport Historical Society Scarecrow Contest FAQs \nThe Kennebunkport Historical Society invites you to participate in the first annual scarecrow contest. \nWhat is the Scarecrow Contest? \nAnyone – families\, businesses\, students\, teachers\, community residents- can enter a scarecrow into the contest. This year scarecrows will be inspired by Historic Kennebunkport. Our community will cast their votes for their favorite scarecrow. Details are below. \n________________________________________ \nHow do you enter the scarecrow contest? \nYou can register online for the contest. The entry fee is $25 to enter 1 scarecrow (or scene). You must register by September 30\, 2022. You can register more than one scarecrow if you choose. The Scarecrow contest helps to support the Kennebunkport Historical Society\, a non-profit\, member-supported organization. Click HERE to sign up. \nWhere and when do the scarecrows get displayed? \nThe scarecrows must be delivered to the Kennebunkport Historical Society “Town House Corners Campus” 125/135 North Street\, anytime between October 3 through October 13\, 2022. The Kennebunkport Historical Society will provide you with your numbered scarecrow display space. All scarecrows will be installed and displayed by October 13th before the voting begins. Ensure that your scarecrow can endure the outdoor weather. All entrants must remove their scarecrow by October 31\, 2022. \n________________________________________ \nWhat should my scarecrow look like? \nYour scarecrow should be inspired by historic Kennebunkport. Imagine sea captains\, sailors\, boat builders\, fishermen\, lobstermen\, farmers\, carpenters\, store clerks\, shoemakers\, teachers\, blacksmiths\, innkeepers\, tavern owners\, bakers\, quilters\, ministers and more.  \nEntries may choose to include multiple scarecrows (or whimsical characters)\, as well as props and decor to reflect the theme of your display. \nIt must NOT display any derogatory words\, symbols\, or nudity. No politics! It can display business\, family\, team\, or group names. The Board Members of the Historical Society will review all scarecrows before they are displayed to ensure compliance. \nElectricity will not be provided for displays and flammable objects are not allowed. \n________________________________________ \nWhere will the scarecrows be displayed? \nAll scarecrows will be displayed on the front lawn and pathway of the Town House School on 135 North Street for everyone to see. It is a feature of the Heritage Weekend Event. \n________________________________________ \nWhat are the contest dates? \n• Register online by September 30\, 2022  \n• Scarecrows will be set up for display from October 14 – October 31. \n• Voting will take place on site October 14-16 as well as on our website during these dates.  \n• The grand prize winner will be announced on Monday\, October 17 on our Website\, Social Media\, and in local newspapers.  \n________________________________________ \nVoters will be asked to judge the Scarecrow displays by the following criteria: \n• Creativity/Originality \n• Technical Aspects \nPlease direct any questions to:  \nKristin Haight \nKHaight@Kporths.com \n207-967-2751 \nExample photos (from google search):
URL:https://kporths.com/event/1st-annual-scarecrow-contest/
LOCATION:Town House School\, 135 North Street\, Kennebunkport\, 04046\, United States
CATEGORIES:Contest,Fundraiser
END:VEVENT
END:VCALENDAR