BEGIN:VCALENDAR
VERSION:2.0
PRODID:-//Kennebunkport Historical Society - ECPv6.0.13//NONSGML v1.0//EN
CALSCALE:GREGORIAN
METHOD:PUBLISH
X-ORIGINAL-URL:https://kporths.com
X-WR-CALDESC:Events for Kennebunkport Historical Society
REFRESH-INTERVAL;VALUE=DURATION:PT1H
X-Robots-Tag:noindex
X-PUBLISHED-TTL:PT1H
BEGIN:VTIMEZONE
TZID:UTC
BEGIN:STANDARD
TZOFFSETFROM:+0000
TZOFFSETTO:+0000
TZNAME:UTC
DTSTART:20190101T000000
END:STANDARD
END:VTIMEZONE
BEGIN:VEVENT
DTSTART;TZID=UTC:20221201T180000
DTEND;TZID=UTC:20221201T210000
DTSTAMP:20260420T144049
CREATED:20220826T163117Z
LAST-MODIFIED:20220826T163117Z
UID:18434-1669917600-1669928400@kporths.com
SUMMARY:Annual Prelude Gala at White Columns!
DESCRIPTION:Annual Prelude Gala at White Columns\nDecember 1st from 6pm-9pm\nLocated at White Columns\n  \nJoin the Kennebunkport Historical Society at our annual prelude gala at White Columns! Kick off the Prelude season at White Columns! Join us for heavy hors d’oeuvres\, live piano music\, and champagne. \n  \n$65 for Non-Members \n$50 for Members \nClick HERE to get your tickets! \n 
URL:https://kporths.com/event/annual-prelude-gala-at-white-columns/
LOCATION:White Columns\, 8 Maine Street\, Kennebunkport\, ME\, 04046\, United States
CATEGORIES:Food and Social,Holiday
END:VEVENT
BEGIN:VEVENT
DTSTART;TZID=UTC:20211211T140000
DTEND;TZID=UTC:20211211T160000
DTSTAMP:20260420T144049
CREATED:20211019T155022Z
LAST-MODIFIED:20211112T182716Z
UID:17201-1639231200-1639238400@kporths.com
SUMMARY:Children's Crafts at White Columns
DESCRIPTION:
URL:https://kporths.com/event/childrens-crafts-at-white-columns-2/
LOCATION:White Columns\, 8 Maine Street\, Kennebunkport\, ME\, 04046\, United States
CATEGORIES:For Kids,Holiday
END:VEVENT
BEGIN:VEVENT
DTSTART;TZID=UTC:20211211T130000
DTEND;TZID=UTC:20211211T140000
DTSTAMP:20260420T144049
CREATED:20211019T152820Z
LAST-MODIFIED:20211019T153606Z
UID:17197-1639227600-1639231200@kporths.com
SUMMARY:Reading with Mrs. Claus
DESCRIPTION:
URL:https://kporths.com/event/reading-with-mrs-claus-2/
LOCATION:White Columns\, 8 Maine Street\, Kennebunkport\, ME\, 04046\, United States
CATEGORIES:For Kids,Holiday
END:VEVENT
BEGIN:VEVENT
DTSTART;TZID=UTC:20211211T100000
DTEND;TZID=UTC:20211211T200000
DTSTAMP:20260420T144049
CREATED:20211019T161923Z
LAST-MODIFIED:20211019T161923Z
UID:17211-1639216800-1639252800@kporths.com
SUMMARY:Historic House Tours at White Columns
DESCRIPTION:Historic House Tours at White Columns\nOur docents will take you on a journey into the past. You will discover the stories of a family who lived in the mid-1800s. Learn about the history of Kennebunkport through the Perkins-Nott family’s triumphs and tragedies and explore unique artifacts in a home untouched by time. \nEnd the tour with a very personal exhibit featuring President George H. W. Bush Memorabilia. \n\nTour the house through the eyes of a Maine Christmas! \nHouse tours from 10-4 \nCandlelight house tours from 4-8 \n$12 per person \nMembers are free
URL:https://kporths.com/event/historic-house-tours-at-white-columns-4/
LOCATION:White Columns\, 8 Maine Street\, Kennebunkport\, ME\, 04046\, United States
CATEGORIES:Holiday,Tour
END:VEVENT
BEGIN:VEVENT
DTSTART;TZID=UTC:20211210T100000
DTEND;TZID=UTC:20211210T200000
DTSTAMP:20260420T144049
CREATED:20211019T161836Z
LAST-MODIFIED:20211019T161836Z
UID:17209-1639130400-1639166400@kporths.com
SUMMARY:Historic House Tours at White Columns
DESCRIPTION:Historic House Tours at White Columns\nOur docents will take you on a journey into the past. You will discover the stories of a family who lived in the mid-1800s. Learn about the history of Kennebunkport through the Perkins-Nott family’s triumphs and tragedies and explore unique artifacts in a home untouched by time. \nEnd the tour with a very personal exhibit featuring President George H. W. Bush Memorabilia. \n\nTour the house through the eyes of a Maine Christmas! \nHouse tours from 10-4 \nCandlelight house tours from 4-8 \n$12 per person \nMembers are free
URL:https://kporths.com/event/historic-house-tours-at-white-columns-3/
LOCATION:White Columns\, 8 Maine Street\, Kennebunkport\, ME\, 04046\, United States
CATEGORIES:Holiday,Tour
END:VEVENT
BEGIN:VEVENT
DTSTART;TZID=UTC:20211209T100000
DTEND;TZID=UTC:20211209T160000
DTSTAMP:20260420T144049
CREATED:20211019T163010Z
LAST-MODIFIED:20211019T163010Z
UID:17219-1639044000-1639065600@kporths.com
SUMMARY:Historic House Tours at White Columns
DESCRIPTION:Historic House Tours at White Columns\nOur docents will take you on a journey into the past. You will discover the stories of a family who lived in the mid-1800s. Learn about the history of Kennebunkport through the Perkins-Nott family’s triumphs and tragedies and explore unique artifacts in a home untouched by time. \nEnd the tour with a very personal exhibit featuring President George H. W. Bush Memorabilia. \n\nTour the house through the eyes of a Maine Christmas! \nHouse tours from 10-4 \n$12 per person \nMembers are free
URL:https://kporths.com/event/historic-house-tours-at-white-columns-8/
LOCATION:White Columns\, 8 Maine Street\, Kennebunkport\, ME\, 04046\, United States
CATEGORIES:Holiday,Tour
END:VEVENT
BEGIN:VEVENT
DTSTART;TZID=UTC:20211208T170000
DTEND;TZID=UTC:20211208T190000
DTSTAMP:20260420T144049
CREATED:20211019T155252Z
LAST-MODIFIED:20211127T022649Z
UID:17203-1638982800-1638990000@kporths.com
SUMMARY:Mid-Week Music Concert
DESCRIPTION:Mid-Week Music Concert : A Very Mid-Week Music Christmas\nFor this special Prelude concert (with the earlier starting time of 5PM)\, Gunter and Pearson will be joined by John Kumnick on the upright bass. The trio will perform a range of holiday songs\, from “O Holy Night” and “What Child is This” to Chuck Berry’s “Run Rudolph Run” and Elvis Presley’s “Santa Claus is Back in Town.” Some singing along will be required\, so remember to do some vocal exercises beforehand. \nTo purchase tickets\, please click here!  \n$18.00 Non-Member \n$15.00 Member
URL:https://kporths.com/event/mid-week-music-concert/
LOCATION:Town House School\, 135 North Street\, Kennebunkport\, 04046\, United States
CATEGORIES:Holiday,Live Performance
END:VEVENT
BEGIN:VEVENT
DTSTART;TZID=UTC:20211208T100000
DTEND;TZID=UTC:20211208T160000
DTSTAMP:20260420T144049
CREATED:20211019T162930Z
LAST-MODIFIED:20211019T162930Z
UID:17217-1638957600-1638979200@kporths.com
SUMMARY:Historic House Tours at White Columns
DESCRIPTION:Historic House Tours at White Columns\nOur docents will take you on a journey into the past. You will discover the stories of a family who lived in the mid-1800s. Learn about the history of Kennebunkport through the Perkins-Nott family’s triumphs and tragedies and explore unique artifacts in a home untouched by time. \nEnd the tour with a very personal exhibit featuring President George H. W. Bush Memorabilia. \n\nTour the house through the eyes of a Maine Christmas! \nHouse tours from 10-4 \n$12 per person \nMembers are free
URL:https://kporths.com/event/historic-house-tours-at-white-columns-7/
LOCATION:White Columns\, 8 Maine Street\, Kennebunkport\, ME\, 04046\, United States
CATEGORIES:Holiday,Tour
END:VEVENT
BEGIN:VEVENT
DTSTART;TZID=UTC:20211207T100000
DTEND;TZID=UTC:20211207T160000
DTSTAMP:20260420T144049
CREATED:20211019T162844Z
LAST-MODIFIED:20211019T162844Z
UID:17215-1638871200-1638892800@kporths.com
SUMMARY:Historic House Tours at White Columns
DESCRIPTION:Historic House Tours at White Columns\nOur docents will take you on a journey into the past. You will discover the stories of a family who lived in the mid-1800s. Learn about the history of Kennebunkport through the Perkins-Nott family’s triumphs and tragedies and explore unique artifacts in a home untouched by time. \nEnd the tour with a very personal exhibit featuring President George H. W. Bush Memorabilia. \n\nTour the house through the eyes of a Maine Christmas! \nHouse tours from 10-4 \n$12 per person \nMembers are free
URL:https://kporths.com/event/historic-house-tours-at-white-columns-6/
LOCATION:White Columns\, 8 Maine Street\, Kennebunkport\, ME\, 04046\, United States
CATEGORIES:Holiday,Tour
END:VEVENT
BEGIN:VEVENT
DTSTART;TZID=UTC:20211206T100000
DTEND;TZID=UTC:20211206T160000
DTSTAMP:20260420T144049
CREATED:20211019T162014Z
LAST-MODIFIED:20211019T162014Z
UID:17213-1638784800-1638806400@kporths.com
SUMMARY:Historic House Tours at White Columns
DESCRIPTION:Historic House Tours at White Columns\nOur docents will take you on a journey into the past. You will discover the stories of a family who lived in the mid-1800s. Learn about the history of Kennebunkport through the Perkins-Nott family’s triumphs and tragedies and explore unique artifacts in a home untouched by time. \nEnd the tour with a very personal exhibit featuring President George H. W. Bush Memorabilia. \n\nTour the house through the eyes of a Maine Christmas! \nHouse tours from 10-4 \n$12 per person \nMembers are free
URL:https://kporths.com/event/historic-house-tours-at-white-columns-5/
LOCATION:White Columns\, 8 Maine Street\, Kennebunkport\, ME\, 04046\, United States
CATEGORIES:Holiday,Tour
END:VEVENT
BEGIN:VEVENT
DTSTART;TZID=UTC:20211204T140000
DTEND;TZID=UTC:20211204T160000
DTSTAMP:20260420T144049
CREATED:20211019T154936Z
LAST-MODIFIED:20211112T180946Z
UID:17199-1638626400-1638633600@kporths.com
SUMMARY:Children's Crafts at White Columns
DESCRIPTION:
URL:https://kporths.com/event/childrens-crafts-at-white-columns/
LOCATION:White Columns\, 8 Maine Street\, Kennebunkport\, ME\, 04046\, United States
CATEGORIES:For Kids,Holiday
END:VEVENT
BEGIN:VEVENT
DTSTART;TZID=UTC:20211204T130000
DTEND;TZID=UTC:20211204T140000
DTSTAMP:20260420T144049
CREATED:20211019T152744Z
LAST-MODIFIED:20211019T152744Z
UID:17195-1638622800-1638626400@kporths.com
SUMMARY:Reading with Mrs. Claus
DESCRIPTION:
URL:https://kporths.com/event/reading-with-mrs-claus/
LOCATION:White Columns\, 8 Maine Street\, Kennebunkport\, ME\, 04046\, United States
CATEGORIES:For Kids,Holiday
END:VEVENT
BEGIN:VEVENT
DTSTART;TZID=UTC:20211204T100000
DTEND;TZID=UTC:20211204T200000
DTSTAMP:20260420T144049
CREATED:20211019T161751Z
LAST-MODIFIED:20211019T161751Z
UID:17207-1638612000-1638648000@kporths.com
SUMMARY:Historic House Tours at White Columns
DESCRIPTION:Historic House Tours at White Columns\nOur docents will take you on a journey into the past. You will discover the stories of a family who lived in the mid-1800s. Learn about the history of Kennebunkport through the Perkins-Nott family’s triumphs and tragedies and explore unique artifacts in a home untouched by time. \nEnd the tour with a very personal exhibit featuring President George H. W. Bush Memorabilia. \n\nTour the house through the eyes of a Maine Christmas! \nHouse tours from 10-4 \nCandlelight house tours from 4-8 \n$12 per person \nMembers are free
URL:https://kporths.com/event/historic-house-tours-at-white-columns-2/
LOCATION:White Columns\, 8 Maine Street\, Kennebunkport\, ME\, 04046\, United States
CATEGORIES:Holiday,Tour
END:VEVENT
BEGIN:VEVENT
DTSTART;TZID=UTC:20211203T100000
DTEND;TZID=UTC:20211203T200000
DTSTAMP:20260420T144049
CREATED:20211019T161643Z
LAST-MODIFIED:20211019T161643Z
UID:17205-1638525600-1638561600@kporths.com
SUMMARY:Historic House Tours at White Columns
DESCRIPTION:Historic House Tours at White Columns\nOur docents will take you on a journey into the past. You will discover the stories of a family who lived in the mid-1800s. Learn about the history of Kennebunkport through the Perkins-Nott family’s triumphs and tragedies and explore unique artifacts in a home untouched by time. \nEnd the tour with a very personal exhibit featuring President George H. W. Bush Memorabilia. \n\nTour the house through the eyes of a Maine Christmas! \nHouse tours from 10-4 \nCandlelight house tours from 4-8 \n$12 per person \nMembers are free
URL:https://kporths.com/event/historic-house-tours-at-white-columns/
LOCATION:White Columns\, 8 Maine Street\, Kennebunkport\, ME\, 04046\, United States
CATEGORIES:Holiday,Tour
END:VEVENT
BEGIN:VEVENT
DTSTART;TZID=UTC:20211202T190000
DTEND;TZID=UTC:20211202T210000
DTSTAMP:20260420T144049
CREATED:20211019T152608Z
LAST-MODIFIED:20211029T170827Z
UID:17193-1638471600-1638478800@kporths.com
SUMMARY:Prelude Champagne Gala
DESCRIPTION:Kennebunkport Historical Society’s Annual Prelude Champagne Reception\nKick off the Christmas Prelude celebration with a champagne reception and get a first look at White Columns decorated for the holiday season\, with this year’s theme… A Maine Christmas! \nThursday\, December 2nd from 7-9pm \nTo purchase tickets\, click here!  \n$45 Non-Member \n$35 Member \nFor more information\, call (207)-967-2751 \n \n 
URL:https://kporths.com/event/prelude-champagne-gala/
LOCATION:White Columns\, 8 Maine Street\, Kennebunkport\, ME\, 04046\, United States
CATEGORIES:Food and Social,Holiday,Reception
END:VEVENT
BEGIN:VEVENT
DTSTART;TZID=UTC:20191214T180000
DTEND;TZID=UTC:20191214T200000
DTSTAMP:20260420T144049
CREATED:20190830T174033Z
LAST-MODIFIED:20190830T174033Z
UID:15682-1576346400-1576353600@kporths.com
SUMMARY:White Columns by Candle Light
DESCRIPTION:See the magic of White Columns lit by flickering candle light. Open 6 pm to 8 pm. Free for members. $10 for non-members.
URL:https://kporths.com/event/white-columns-by-candle-light-4/
LOCATION:White Columns\, 8 Maine Street\, Kennebunkport\, ME\, 04046\, United States
CATEGORIES:Holiday
END:VEVENT
BEGIN:VEVENT
DTSTART;TZID=UTC:20191214T100000
DTEND;TZID=UTC:20191214T160000
DTSTAMP:20260420T144049
CREATED:20190830T171024Z
LAST-MODIFIED:20190830T171024Z
UID:15674-1576317600-1576339200@kporths.com
SUMMARY:Christmas Tours at White Columns
DESCRIPTION:Step back in time and see White Columns decorated for the Christmas Holidays. Tours on the hour\, 10 am to 4 pm. Free for members. $10 for non-members.
URL:https://kporths.com/event/christmas-tours-at-white-columns-8/
LOCATION:White Columns\, 8 Maine Street\, Kennebunkport\, ME\, 04046\, United States
CATEGORIES:Holiday
END:VEVENT
BEGIN:VEVENT
DTSTART;TZID=UTC:20191214T080000
DTEND;TZID=UTC:20191214T170000
DTSTAMP:20260420T144049
CREATED:20190830T174715Z
LAST-MODIFIED:20190830T174715Z
UID:15686-1576310400-1576342800@kporths.com
SUMMARY:Story Time with Mrs. Claus at White Columns
DESCRIPTION:Mrs. Claus visits White Columns to read Christmas stories to kids of all ages at 2 pm. Free.
URL:https://kporths.com/event/story-time-with-mrs-claus-at-white-columns-2/
LOCATION:White Columns\, 8 Maine Street\, Kennebunkport\, ME\, 04046\, United States
CATEGORIES:For Kids,Holiday
END:VEVENT
BEGIN:VEVENT
DTSTART;TZID=UTC:20191213T180000
DTEND;TZID=UTC:20191213T200000
DTSTAMP:20260420T144049
CREATED:20190830T173923Z
LAST-MODIFIED:20190830T173923Z
UID:15680-1576260000-1576267200@kporths.com
SUMMARY:White Columns by Candle Light
DESCRIPTION:See the magic of White Columns lit by flickering candle light. Open 6 pm to 8 pm. Free for members. $10 for non-members.
URL:https://kporths.com/event/white-columns-by-candle-light-3/
LOCATION:White Columns\, 8 Maine Street\, Kennebunkport\, ME\, 04046\, United States
CATEGORIES:Holiday
END:VEVENT
BEGIN:VEVENT
DTSTART;TZID=UTC:20191213T100000
DTEND;TZID=UTC:20191213T160000
DTSTAMP:20260420T144049
CREATED:20190830T170925Z
LAST-MODIFIED:20191114T152801Z
UID:15672-1576231200-1576252800@kporths.com
SUMMARY:Christmas Tours at White Columns
DESCRIPTION:Step back in time and see White Columns decorated for the Christmas Holidays. Tours on the hour\, 10 am to 4 pm. Free for members. $10 for non-members.
URL:https://kporths.com/event/christmas-tours-at-white-columns-7/
LOCATION:White Columns\, 8 Maine Street\, Kennebunkport\, ME\, 04046\, United States
CATEGORIES:Holiday
END:VEVENT
BEGIN:VEVENT
DTSTART;TZID=UTC:20191212T100000
DTEND;TZID=UTC:20191212T160000
DTSTAMP:20260420T144049
CREATED:20190830T170816Z
LAST-MODIFIED:20190830T170816Z
UID:15670-1576144800-1576166400@kporths.com
SUMMARY:Christmas Tours at White Columns
DESCRIPTION:Step back in time and see White Columns decorated for the Christmas Holidays. Tours on the hour\, 10 am to 4 pm. Free for members. $10 for non-members.
URL:https://kporths.com/event/christmas-tours-at-white-columns-6/
LOCATION:White Columns\, 8 Maine Street\, Kennebunkport\, ME\, 04046\, United States
CATEGORIES:Holiday
END:VEVENT
BEGIN:VEVENT
DTSTART;TZID=UTC:20191211T100000
DTEND;TZID=UTC:20191211T160000
DTSTAMP:20260420T144049
CREATED:20190830T170703Z
LAST-MODIFIED:20190830T170703Z
UID:15668-1576058400-1576080000@kporths.com
SUMMARY:Christmas Tours at White Columns
DESCRIPTION:Step back in time and see White Columns decorated for the Christmas Holidays. Tours on the hour\, 10 am to 4 pm. Free for members. $10 for non-members.
URL:https://kporths.com/event/christmas-tours-at-white-columns-5/
LOCATION:White Columns\, 8 Maine Street\, Kennebunkport\, ME\, 04046\, United States
CATEGORIES:Holiday
END:VEVENT
BEGIN:VEVENT
DTSTART;TZID=UTC:20191210T100000
DTEND;TZID=UTC:20191210T160000
DTSTAMP:20260420T144049
CREATED:20190830T170538Z
LAST-MODIFIED:20191114T152548Z
UID:15666-1575972000-1575993600@kporths.com
SUMMARY:Christmas Tours at White Columns
DESCRIPTION:Step back in time and see White Columns decorated for the Christmas Holidays. Tours on the hour\, 10 am to 4 pm. Free for members. $10 for non-members.
URL:https://kporths.com/event/christmas-tours-at-white-columns-4/
LOCATION:White Columns\, 8 Maine Street\, Kennebunkport\, ME\, 04046\, United States
CATEGORIES:Holiday
END:VEVENT
BEGIN:VEVENT
DTSTART;TZID=UTC:20191209T100000
DTEND;TZID=UTC:20191209T160000
DTSTAMP:20260420T144049
CREATED:20190830T170320Z
LAST-MODIFIED:20191114T152406Z
UID:15664-1575885600-1575907200@kporths.com
SUMMARY:Christmas Tours at White Columns
DESCRIPTION:Step back in time and see White Columns decorated for the Christmas Holidays. Tours on the hour\, 10 am to 4 pm. Free for members. $10 for non-members.
URL:https://kporths.com/event/christmas-tours-at-white-columns-3/
LOCATION:White Columns\, 8 Maine Street\, Kennebunkport\, ME\, 04046\, United States
CATEGORIES:Holiday
END:VEVENT
BEGIN:VEVENT
DTSTART;TZID=UTC:20191207T180000
DTEND;TZID=UTC:20191207T200000
DTSTAMP:20260420T144049
CREATED:20190830T173749Z
LAST-MODIFIED:20190830T173749Z
UID:15678-1575741600-1575748800@kporths.com
SUMMARY:White Columns by Candle Light
DESCRIPTION:See the magic of White Columns lit by flickering candle light. Open 6 pm to 8 pm. Free for members. $10 for non-members.
URL:https://kporths.com/event/white-columns-by-candle-light-2/
LOCATION:White Columns\, 8 Maine Street\, Kennebunkport\, ME\, 04046\, United States
CATEGORIES:Holiday
END:VEVENT
BEGIN:VEVENT
DTSTART;TZID=UTC:20191207T140000
DTEND;TZID=UTC:20191207T150000
DTSTAMP:20260420T144049
CREATED:20190830T174534Z
LAST-MODIFIED:20190830T174616Z
UID:15684-1575727200-1575730800@kporths.com
SUMMARY:Story Time with Mrs. Claus at White Columns
DESCRIPTION:Mrs. Claus visits White Columns to read Christmas stories to kids of all ages at 2 pm. Free.
URL:https://kporths.com/event/story-time-with-mrs-claus-at-white-columns/
LOCATION:White Columns\, 8 Maine Street\, Kennebunkport\, ME\, 04046\, United States
CATEGORIES:For Kids,Holiday
END:VEVENT
BEGIN:VEVENT
DTSTART;TZID=UTC:20191207T100000
DTEND;TZID=UTC:20191207T160000
DTSTAMP:20260420T144049
CREATED:20190830T170205Z
LAST-MODIFIED:20190830T170205Z
UID:15662-1575712800-1575734400@kporths.com
SUMMARY:Christmas Tours at White Columns
DESCRIPTION:Step back in time and see White Columns decorated for the Christmas Holidays. Tours on the hour\, 10 am to 4 pm. Free for members. $10 for non-members.
URL:https://kporths.com/event/christmas-tours-at-white-columns-2/
LOCATION:White Columns\, 8 Maine Street\, Kennebunkport\, ME\, 04046\, United States
CATEGORIES:Holiday
END:VEVENT
BEGIN:VEVENT
DTSTART;TZID=UTC:20191206T180000
DTEND;TZID=UTC:20191206T200000
DTSTAMP:20260420T144049
CREATED:20190830T173551Z
LAST-MODIFIED:20190830T173551Z
UID:15676-1575655200-1575662400@kporths.com
SUMMARY:White Columns by Candle Light
DESCRIPTION:See the magic of White Columns lit by flickering candle light. Open 6 pm to 8 pm. Free for members. $10 for non-members.
URL:https://kporths.com/event/white-columns-by-candle-light/
LOCATION:White Columns\, 8 Maine Street\, Kennebunkport\, ME\, 04046\, United States
CATEGORIES:Holiday
END:VEVENT
BEGIN:VEVENT
DTSTART;TZID=UTC:20191206T100000
DTEND;TZID=UTC:20191206T160000
DTSTAMP:20260420T144049
CREATED:20190830T165522Z
LAST-MODIFIED:20190830T165900Z
UID:15659-1575626400-1575648000@kporths.com
SUMMARY:Christmas Tours at White Columns
DESCRIPTION:Step back in time and see White Columns decorated for the Christmas Holidays. Tours on the hour\, 10 am to 4 pm. Free for members. $10 for non-members.
URL:https://kporths.com/event/christmas-tours-at-white-columns/
LOCATION:White Columns\, 8 Maine Street\, Kennebunkport\, ME\, 04046\, United States
CATEGORIES:Holiday
END:VEVENT
BEGIN:VEVENT
DTSTART;TZID=UTC:20191205T190000
DTEND;TZID=UTC:20191205T210000
DTSTAMP:20260420T144049
CREATED:20190830T164845Z
LAST-MODIFIED:20191114T152243Z
UID:15655-1575572400-1575579600@kporths.com
SUMMARY:Christmas Reception at White Columns
DESCRIPTION:Kick off the Christmas Prelude Celebration with a champagne reception at White Columns\, and get a first look at the house decorated for the holiday season. $25 for members\, $35 for non-members.\nTickets go on sale November 1st and are limited. Call 207-967-2751 for reservations.
URL:https://kporths.com/event/christmas-reception-at-white-columns/
LOCATION:White Columns\, 8 Maine Street\, Kennebunkport\, ME\, 04046\, United States
CATEGORIES:Holiday
END:VEVENT
END:VCALENDAR