BEGIN:VCALENDAR
VERSION:2.0
PRODID:-//Kennebunkport Historical Society - ECPv6.0.13//NONSGML v1.0//EN
CALSCALE:GREGORIAN
METHOD:PUBLISH
X-WR-CALNAME:Kennebunkport Historical Society
X-ORIGINAL-URL:https://kporths.com
X-WR-CALDESC:Events for Kennebunkport Historical Society
REFRESH-INTERVAL;VALUE=DURATION:PT1H
X-Robots-Tag:noindex
X-PUBLISHED-TTL:PT1H
BEGIN:VTIMEZONE
TZID:UTC
BEGIN:STANDARD
TZOFFSETFROM:+0000
TZOFFSETTO:+0000
TZNAME:UTC
DTSTART:20190101T000000
END:STANDARD
END:VTIMEZONE
BEGIN:VEVENT
DTSTART;TZID=UTC:20190604T100000
DTEND;TZID=UTC:20190604T110000
DTSTAMP:20260425T155652
CREATED:20190823T133400Z
LAST-MODIFIED:20190823T133400Z
UID:15616-1559642400-1559646000@kporths.com
SUMMARY:Lecture: Early Photography
DESCRIPTION:Immerse yourself in the fascinating history of Kennebunkport through the Society’s lecture series\, A Walk Through History. Presented by Sharon Cummins.
URL:https://kporths.com/event/lecture-early-photography/
LOCATION:Pasco Center\, 125 North Street\, Kennebunkport\, ME\, 04046\, United States
CATEGORIES:Lecture
END:VEVENT
END:VCALENDAR