BEGIN:VCALENDAR
VERSION:2.0
PRODID:-//Kennebunkport Historical Society - ECPv6.0.13//NONSGML v1.0//EN
CALSCALE:GREGORIAN
METHOD:PUBLISH
X-WR-CALNAME:Kennebunkport Historical Society
X-ORIGINAL-URL:https://kporths.com
X-WR-CALDESC:Events for Kennebunkport Historical Society
REFRESH-INTERVAL;VALUE=DURATION:PT1H
X-Robots-Tag:noindex
X-PUBLISHED-TTL:PT1H
BEGIN:VTIMEZONE
TZID:UTC
BEGIN:STANDARD
TZOFFSETFROM:+0000
TZOFFSETTO:+0000
TZNAME:UTC
DTSTART:20210101T000000
END:STANDARD
END:VTIMEZONE
BEGIN:VEVENT
DTSTART;TZID=UTC:20211120T130000
DTEND;TZID=UTC:20211120T130000
DTSTAMP:20260420T150535
CREATED:20211022T153409Z
LAST-MODIFIED:20211116T183101Z
UID:17238-1637413200-1637413200@kporths.com
SUMMARY:"How to Write Your Memoir" : Lecture by Katherine Mayfield
DESCRIPTION:“How to Write Your Memoir” : Lecture by Katherine Mayfield\nLecture by local author\, Katherine Mayfield. “How to write your memoir”. Katherine Mayfield\, author of the memoir\, “The Box of Daughter” as well as other books will offer tips for writing your own memoir- This lecture will include information on the different aspects of writing memoir – such as theme\, “characters\,” point of view\, and reflection – as well as legal considerations and a brief overview of publishing options. The lecture will include handouts and an opportunity for questions and answers.\nTo reserve a spot\, please click here! \n\nSuggested donation\n Members: $5.00\nNon-Members: $8.00
URL:https://kporths.com/event/how-to-write-your-memoir-lecture-by-katherine-mayfield/
LOCATION:Town House School\, 135 North Street\, Kennebunkport\, 04046\, United States
CATEGORIES:Lecture
END:VEVENT
END:VCALENDAR