BEGIN:VCALENDAR
VERSION:2.0
PRODID:-//Kennebunkport Historical Society - ECPv6.0.13//NONSGML v1.0//EN
CALSCALE:GREGORIAN
METHOD:PUBLISH
X-WR-CALNAME:Kennebunkport Historical Society
X-ORIGINAL-URL:https://kporths.com
X-WR-CALDESC:Events for Kennebunkport Historical Society
REFRESH-INTERVAL;VALUE=DURATION:PT1H
X-Robots-Tag:noindex
X-PUBLISHED-TTL:PT1H
BEGIN:VTIMEZONE
TZID:UTC
BEGIN:STANDARD
TZOFFSETFROM:+0000
TZOFFSETTO:+0000
TZNAME:UTC
DTSTART:20250101T000000
END:STANDARD
END:VTIMEZONE
BEGIN:VEVENT
DTSTART;TZID=UTC:20250515T190000
DTEND;TZID=UTC:20250515T210000
DTSTAMP:20260422T062741
CREATED:20250211T152908Z
LAST-MODIFIED:20250331T143041Z
UID:23727-1747335600-1747342800@kporths.com
SUMMARY:Dock Square Through the Years
DESCRIPTION:Dock Square Through the Years\nMay 15th at 7pm \nLocated at the Town House School : 135 North St. in KPT \nJoin us for a engaging lecture on the history and transformation of Dock Square\, the vibrant heart of Kennebunkport. From its early days as a bustling maritime hub to the charming destination it is today\, this presentation will explore the square’s evolution through historic photographs\, stories\, and insights. \nWhether you’re a longtime resident or a visitor eager to learn more\, this event offers a wonderful opportunity to deepen your appreciation for the town’s rich past and how it continues to shape its future. \nThis event is 21 & Over (BYOB Event) \n$6 for KHS Members \n$10 for Non-Members \nClick HERE to get tickets!
URL:https://kporths.com/event/dock-square-through-the-years/
LOCATION:Town House School\, 135 North Street\, Kennebunkport\, 04046\, United States
CATEGORIES:Lecture
END:VEVENT
END:VCALENDAR