BEGIN:VCALENDAR
VERSION:2.0
PRODID:-//Kennebunkport Historical Society - ECPv6.0.13//NONSGML v1.0//EN
CALSCALE:GREGORIAN
METHOD:PUBLISH
X-ORIGINAL-URL:https://kporths.com
X-WR-CALDESC:Events for Kennebunkport Historical Society
REFRESH-INTERVAL;VALUE=DURATION:PT1H
X-Robots-Tag:noindex
X-PUBLISHED-TTL:PT1H
BEGIN:VTIMEZONE
TZID:UTC
BEGIN:STANDARD
TZOFFSETFROM:+0000
TZOFFSETTO:+0000
TZNAME:UTC
DTSTART:20190101T000000
END:STANDARD
END:VTIMEZONE
BEGIN:VEVENT
DTSTART;TZID=UTC:20191105T100000
DTEND;TZID=UTC:20191105T110000
DTSTAMP:20260419T192544
CREATED:20190823T155015Z
LAST-MODIFIED:20190823T155019Z
UID:15626-1572948000-1572951600@kporths.com
SUMMARY:Lecture: The History of Sewing
DESCRIPTION:Immerse yourself in the fascinating history of Kennebunkport through the Society’s lecture series\, A Walk Through History. Presented by Denise Stevens.
URL:https://kporths.com/event/lecture-the-history-of-sewing/
LOCATION:Town House School\, 135 North Street\, Kennebunkport\, 04046\, United States
CATEGORIES:Lecture
END:VEVENT
BEGIN:VEVENT
DTSTART;TZID=UTC:20191001T100000
DTEND;TZID=UTC:20191001T110000
DTSTAMP:20260419T192544
CREATED:20190823T154812Z
LAST-MODIFIED:20190823T154833Z
UID:15624-1569924000-1569927600@kporths.com
SUMMARY:Lecture: Haunted Kennebunkport
DESCRIPTION:Immerse yourself in the fascinating history of Kennebunkport through the Society’s lecture series\, A Walk Through History. Presented by Diane Lent.
URL:https://kporths.com/event/lecture-haunted-kennebunkport/
LOCATION:Town House School\, 135 North Street\, Kennebunkport\, 04046\, United States
CATEGORIES:Lecture
END:VEVENT
BEGIN:VEVENT
DTSTART;TZID=UTC:20190903T120000
DTEND;TZID=UTC:20190903T130000
DTSTAMP:20260419T192544
CREATED:20190823T153032Z
LAST-MODIFIED:20190903T135332Z
UID:15622-1567512000-1567515600@kporths.com
SUMMARY:Lecture: The Kennebunkport Playhouse
DESCRIPTION:Immerse yourself in the fascinating history of Kennebunkport through the Society’s lecture series\, A Walk Through History. Presented by Albert Black.
URL:https://kporths.com/event/lecture-the-kennebunkport-playhouse/
LOCATION:Town House School\, 135 North Street\, Kennebunkport\, 04046\, United States
CATEGORIES:Lecture
END:VEVENT
BEGIN:VEVENT
DTSTART;TZID=UTC:20190806T100000
DTEND;TZID=UTC:20190806T110000
DTSTAMP:20260419T192544
CREATED:20190823T134310Z
LAST-MODIFIED:20190823T134310Z
UID:15620-1565085600-1565089200@kporths.com
SUMMARY:Lecture: Kenneth Roberts
DESCRIPTION:Immerse yourself in the fascinating history of Kennebunkport through the Society’s lecture series\, A Walk Through History. Presented by Peter Whalon.
URL:https://kporths.com/event/lecture-kenneth-roberts/
LOCATION:Pasco Center\, 125 North Street\, Kennebunkport\, ME\, 04046\, United States
CATEGORIES:Lecture
END:VEVENT
BEGIN:VEVENT
DTSTART;TZID=UTC:20190702T100000
DTEND;TZID=UTC:20190702T110000
DTSTAMP:20260419T192544
CREATED:20190823T134120Z
LAST-MODIFIED:20190823T134120Z
UID:15618-1562061600-1562065200@kporths.com
SUMMARY:Lecture: The Town of Three
DESCRIPTION:Immerse yourself in the fascinating history of Kennebunkport through the Society’s lecture series\, A Walk Through History. Presented by Barbara Barwise.
URL:https://kporths.com/event/lecture-the-town-of-three/
LOCATION:Pasco Center\, 125 North Street\, Kennebunkport\, ME\, 04046\, United States
CATEGORIES:Lecture
END:VEVENT
BEGIN:VEVENT
DTSTART;TZID=UTC:20190604T100000
DTEND;TZID=UTC:20190604T110000
DTSTAMP:20260419T192544
CREATED:20190823T133400Z
LAST-MODIFIED:20190823T133400Z
UID:15616-1559642400-1559646000@kporths.com
SUMMARY:Lecture: Early Photography
DESCRIPTION:Immerse yourself in the fascinating history of Kennebunkport through the Society’s lecture series\, A Walk Through History. Presented by Sharon Cummins.
URL:https://kporths.com/event/lecture-early-photography/
LOCATION:Pasco Center\, 125 North Street\, Kennebunkport\, ME\, 04046\, United States
CATEGORIES:Lecture
END:VEVENT
BEGIN:VEVENT
DTSTART;TZID=UTC:20190507T100000
DTEND;TZID=UTC:20190507T110000
DTSTAMP:20260419T192544
CREATED:20190823T132928Z
LAST-MODIFIED:20190823T133204Z
UID:15612-1557223200-1557226800@kporths.com
SUMMARY:Lecture: Shipbuilding in Kennebunkport
DESCRIPTION:Immerse yourself in the fascinating history of Kennebunkport through the Society’s lecture series\, A Walk Through History. Presented by Jocelyn Lacey.
URL:https://kporths.com/event/lecture-shipbuilding-in-kennebunkport/
LOCATION:Pasco Center\, 125 North Street\, Kennebunkport\, ME\, 04046\, United States
CATEGORIES:Lecture
END:VEVENT
BEGIN:VEVENT
DTSTART;TZID=UTC:20190402T100000
DTEND;TZID=UTC:20190402T110000
DTSTAMP:20260419T192544
CREATED:20190823T131611Z
LAST-MODIFIED:20190823T133133Z
UID:15609-1554199200-1554202800@kporths.com
SUMMARY:Lecture: From Walkers to Bushes: History of a Family
DESCRIPTION:Immerse yourself in the fascinating history of Kennebunkport through the Society’s lecture series\, A Walk Through History. Presented by Kirsten Camp.
URL:https://kporths.com/event/lecture-from-walkers-to-bushes-history-of-a-family/
LOCATION:Pasco Center\, 125 North Street\, Kennebunkport\, ME\, 04046\, United States
CATEGORIES:Lecture
END:VEVENT
END:VCALENDAR