BEGIN:VCALENDAR
VERSION:2.0
PRODID:-//Kennebunkport Historical Society - ECPv6.0.13//NONSGML v1.0//EN
CALSCALE:GREGORIAN
METHOD:PUBLISH
X-WR-CALNAME:Kennebunkport Historical Society
X-ORIGINAL-URL:https://kporths.com
X-WR-CALDESC:Events for Kennebunkport Historical Society
REFRESH-INTERVAL;VALUE=DURATION:PT1H
X-Robots-Tag:noindex
X-PUBLISHED-TTL:PT1H
BEGIN:VTIMEZONE
TZID:UTC
BEGIN:STANDARD
TZOFFSETFROM:+0000
TZOFFSETTO:+0000
TZNAME:UTC
DTSTART:20220101T000000
END:STANDARD
END:VTIMEZONE
BEGIN:VEVENT
DTSTART;TZID=UTC:20221202T160000
DTEND;TZID=UTC:20221202T200000
DTSTAMP:20260423T133234
CREATED:20221020T150605Z
LAST-MODIFIED:20221020T150605Z
UID:18693-1669996800-1670011200@kporths.com
SUMMARY:Cozy Fire Pits at White Columns
DESCRIPTION:Cozy Fire Pits at White Columns\nOutside cozy fire-pits on the White Columns patio \nWarm beverages available for purchase \n8 Maine street in Kennebunkport
URL:https://kporths.com/event/cozy-fire-pits-at-white-columns/
LOCATION:White Columns\, 8 Maine Street\, Kennebunkport\, ME\, 04046\, United States
CATEGORIES:Prelude
END:VEVENT
BEGIN:VEVENT
DTSTART;TZID=UTC:20221203T130000
DTEND;TZID=UTC:20221203T150000
DTSTAMP:20260423T133234
CREATED:20221020T155256Z
LAST-MODIFIED:20221020T163041Z
UID:18701-1670072400-1670079600@kporths.com
SUMMARY:Cookie Decorating with Mrs. Claus
DESCRIPTION:Cookie Decorating with Mrs. Claus\nDecember 3rd from 1pm-3pm \nLocated at the Town House School (135 North St. in KPT) \nJoin us at the Town House School to decorate your own Holiday cookies with the help of Mrs. Claus! The cost of $10 per person includes a package of 5 cookies & materials to decorate. \n$10 Per Person \nClick HERE to sign up!
URL:https://kporths.com/event/cookie-decorating-with-mrs-claus/
LOCATION:Town House School\, 135 North Street\, Kennebunkport\, 04046\, United States
CATEGORIES:Prelude
END:VEVENT
BEGIN:VEVENT
DTSTART;TZID=UTC:20221203T160000
DTEND;TZID=UTC:20221203T200000
DTSTAMP:20260423T133234
CREATED:20221020T150719Z
LAST-MODIFIED:20221020T150719Z
UID:18695-1670083200-1670097600@kporths.com
SUMMARY:Cozy Fire Pits at White Columns
DESCRIPTION:Cozy Fire Pits at White Columns\nOutside cozy fire-pits on the White Columns patio \nWarm beverages available for purchase \n8 Maine street in Kennebunkport
URL:https://kporths.com/event/cozy-fire-pits-at-white-columns-2/
LOCATION:White Columns\, 8 Maine Street\, Kennebunkport\, ME\, 04046\, United States
CATEGORIES:Prelude
END:VEVENT
BEGIN:VEVENT
DTSTART;TZID=UTC:20221204T160000
DTEND;TZID=UTC:20221204T180000
DTSTAMP:20260423T133234
CREATED:20221020T162829Z
LAST-MODIFIED:20221020T162829Z
UID:18707-1670169600-1670176800@kporths.com
SUMMARY:Dan Blakeslee Christmas Concert
DESCRIPTION:Dan Blakeslee Christmas Concert\nDecember 4th from 4pm-6pm \nLocated at the Town House School (135 North St. in KPT) \n\n$18 for Non-Members \n$15 for Members \nClick HERE to get your tickets!
URL:https://kporths.com/event/dan-blakeslee-christmas-concert/
LOCATION:Town House School\, 135 North Street\, Kennebunkport\, 04046\, United States
CATEGORIES:Prelude
END:VEVENT
BEGIN:VEVENT
DTSTART;TZID=UTC:20221204T160000
DTEND;TZID=UTC:20221204T180000
DTSTAMP:20260423T133234
CREATED:20221020T174308Z
LAST-MODIFIED:20221020T174331Z
UID:18712-1670169600-1670176800@kporths.com
SUMMARY:Children's Christmas Tea Party
DESCRIPTION:Children’s Christmas Tea Party\nDecember 4th at 4pm \nLocated at White Columns (8 Maine St. in KPT) \n  \nJoin us at White Columns for a children’s Christmas inspired tea party! Your ticket includes snacks\, desserts\, and tea! \n$35 for Non-Members \n$25 for Members \nClick HERE to get your tickets!
URL:https://kporths.com/event/childrens-christmas-tea-party/
LOCATION:White Columns\, 8 Maine Street\, Kennebunkport\, ME\, 04046\, United States
CATEGORIES:Prelude
END:VEVENT
BEGIN:VEVENT
DTSTART;TZID=UTC:20221208T190000
DTEND;TZID=UTC:20221208T210000
DTSTAMP:20260423T133234
CREATED:20221020T175816Z
LAST-MODIFIED:20221020T175816Z
UID:18716-1670526000-1670533200@kporths.com
SUMMARY:Girl's Night Out: Wreath Decorating
DESCRIPTION:Girl’s Night Out: Wreath Decorating\nDecember 8th at 7pm \nLocated at the Town House School (135 North St. in KPT) \n  \nJoin us for our 2nd Annual Prelude wreath decorating workshop! Bring your girls over to the Town House School to decorate your own wreath to bring home! This event is 21 & up\, BYOB. \n$50 per person\, includes a wreath & all decorating materials \nClick HERE to sign up!
URL:https://kporths.com/event/girls-night-out-wreath-decorating/
LOCATION:Town House School\, 135 North Street\, Kennebunkport\, 04046\, United States
CATEGORIES:Prelude
END:VEVENT
BEGIN:VEVENT
DTSTART;TZID=UTC:20221209T160000
DTEND;TZID=UTC:20221209T200000
DTSTAMP:20260423T133234
CREATED:20221020T150916Z
LAST-MODIFIED:20221020T150916Z
UID:18697-1670601600-1670616000@kporths.com
SUMMARY:Cozy Fire Pits at White Columns
DESCRIPTION:Cozy Fire Pits at White Columns\nOutside cozy fire-pits on the White Columns patio \nWarm beverages available for purchase \n8 Maine street in Kennebunkport
URL:https://kporths.com/event/cozy-fire-pits-at-white-columns-3/
LOCATION:White Columns\, 8 Maine Street\, Kennebunkport\, ME\, 04046\, United States
CATEGORIES:Prelude
END:VEVENT
BEGIN:VEVENT
DTSTART;TZID=UTC:20221210T130000
DTEND;TZID=UTC:20221210T150000
DTSTAMP:20260423T133234
CREATED:20221020T155427Z
LAST-MODIFIED:20221020T163115Z
UID:18703-1670677200-1670684400@kporths.com
SUMMARY:Cookie Decorating with Mrs. Claus
DESCRIPTION:Cookie Decorating with Mrs. Claus\nDecember 10th from 1pm-3pm \nLocated at the Town House School (135 North St. in KPT) \nJoin us at the Town House School to decorate your own Holiday cookies with the help of Mrs. Claus! The cost of $10 per person includes a package of 5 cookies & materials to decorate. \n$10 Per Person \nClick HERE to sign up!
URL:https://kporths.com/event/cookie-decorating-with-mrs-claus-2/
LOCATION:Town House School\, 135 North Street\, Kennebunkport\, 04046\, United States
CATEGORIES:Prelude
END:VEVENT
BEGIN:VEVENT
DTSTART;TZID=UTC:20221210T160000
DTEND;TZID=UTC:20221210T200000
DTSTAMP:20260423T133234
CREATED:20221020T150959Z
LAST-MODIFIED:20221020T150959Z
UID:18699-1670688000-1670702400@kporths.com
SUMMARY:Cozy Fire Pits at White Columns
DESCRIPTION:Cozy Fire Pits at White Columns\nOutside cozy fire-pits on the White Columns patio \nWarm beverages available for purchase \n8 Maine street in Kennebunkport
URL:https://kporths.com/event/cozy-fire-pits-at-white-columns-4/
LOCATION:White Columns\, 8 Maine Street\, Kennebunkport\, ME\, 04046\, United States
CATEGORIES:Prelude
END:VEVENT
BEGIN:VEVENT
DTSTART;TZID=UTC:20221211T100000
DTEND;TZID=UTC:20221211T160000
DTSTAMP:20260423T133234
CREATED:20221021T141222Z
LAST-MODIFIED:20221021T141222Z
UID:18723-1670752800-1670774400@kporths.com
SUMMARY:End of Year Gift Shop Sale
DESCRIPTION:
URL:https://kporths.com/event/end-of-year-gift-shop-sale/
LOCATION:White Columns\, 8 Maine Street\, Kennebunkport\, ME\, 04046\, United States
CATEGORIES:Prelude
END:VEVENT
BEGIN:VEVENT
DTSTART;TZID=UTC:20221211T130000
DTEND;TZID=UTC:20221211T160000
DTSTAMP:20260423T133234
CREATED:20221021T140923Z
LAST-MODIFIED:20221021T140923Z
UID:18719-1670763600-1670774400@kporths.com
SUMMARY:Tea & "Tails"
DESCRIPTION:Tea & “Tails”\nDecember 11th from 1pm-4pm \nLocated at White Columns (8 Maine St. in KPT) \n\nJoin us at the cozy fire pit at White Columns. Bring along your dog and enjoy the last day of prelude with us!
URL:https://kporths.com/event/tea-tails/
LOCATION:White Columns\, 8 Maine Street\, Kennebunkport\, ME\, 04046\, United States
CATEGORIES:Prelude
END:VEVENT
END:VCALENDAR