BEGIN:VCALENDAR
VERSION:2.0
PRODID:-//Kennebunkport Historical Society - ECPv6.0.13//NONSGML v1.0//EN
CALSCALE:GREGORIAN
METHOD:PUBLISH
X-ORIGINAL-URL:https://kporths.com
X-WR-CALDESC:Events for Kennebunkport Historical Society
REFRESH-INTERVAL;VALUE=DURATION:PT1H
X-Robots-Tag:noindex
X-PUBLISHED-TTL:PT1H
BEGIN:VTIMEZONE
TZID:UTC
BEGIN:STANDARD
TZOFFSETFROM:+0000
TZOFFSETTO:+0000
TZNAME:UTC
DTSTART:20220101T000000
END:STANDARD
END:VTIMEZONE
BEGIN:VEVENT
DTSTART;TZID=UTC:20221204T160000
DTEND;TZID=UTC:20221204T180000
DTSTAMP:20260423T150107
CREATED:20221020T162829Z
LAST-MODIFIED:20221020T162829Z
UID:18707-1670169600-1670176800@kporths.com
SUMMARY:Dan Blakeslee Christmas Concert
DESCRIPTION:Dan Blakeslee Christmas Concert\nDecember 4th from 4pm-6pm \nLocated at the Town House School (135 North St. in KPT) \n\n$18 for Non-Members \n$15 for Members \nClick HERE to get your tickets!
URL:https://kporths.com/event/dan-blakeslee-christmas-concert/
LOCATION:Town House School\, 135 North Street\, Kennebunkport\, 04046\, United States
CATEGORIES:Prelude
END:VEVENT
BEGIN:VEVENT
DTSTART;TZID=UTC:20221204T160000
DTEND;TZID=UTC:20221204T180000
DTSTAMP:20260423T150107
CREATED:20221020T174308Z
LAST-MODIFIED:20221020T174331Z
UID:18712-1670169600-1670176800@kporths.com
SUMMARY:Children's Christmas Tea Party
DESCRIPTION:Children’s Christmas Tea Party\nDecember 4th at 4pm \nLocated at White Columns (8 Maine St. in KPT) \n  \nJoin us at White Columns for a children’s Christmas inspired tea party! Your ticket includes snacks\, desserts\, and tea! \n$35 for Non-Members \n$25 for Members \nClick HERE to get your tickets!
URL:https://kporths.com/event/childrens-christmas-tea-party/
LOCATION:White Columns\, 8 Maine Street\, Kennebunkport\, ME\, 04046\, United States
CATEGORIES:Prelude
END:VEVENT
END:VCALENDAR