BEGIN:VCALENDAR
VERSION:2.0
PRODID:-//Kennebunkport Historical Society - ECPv6.0.13//NONSGML v1.0//EN
CALSCALE:GREGORIAN
METHOD:PUBLISH
X-WR-CALNAME:Kennebunkport Historical Society
X-ORIGINAL-URL:https://kporths.com
X-WR-CALDESC:Events for Kennebunkport Historical Society
REFRESH-INTERVAL;VALUE=DURATION:PT1H
X-Robots-Tag:noindex
X-PUBLISHED-TTL:PT1H
BEGIN:VTIMEZONE
TZID:UTC
BEGIN:STANDARD
TZOFFSETFROM:+0000
TZOFFSETTO:+0000
TZNAME:UTC
DTSTART:20220101T000000
END:STANDARD
END:VTIMEZONE
BEGIN:VEVENT
DTSTART;TZID=UTC:20221208T190000
DTEND;TZID=UTC:20221208T210000
DTSTAMP:20260423T150532
CREATED:20221020T175816Z
LAST-MODIFIED:20221020T175816Z
UID:18716-1670526000-1670533200@kporths.com
SUMMARY:Girl's Night Out: Wreath Decorating
DESCRIPTION:Girl’s Night Out: Wreath Decorating\nDecember 8th at 7pm \nLocated at the Town House School (135 North St. in KPT) \n  \nJoin us for our 2nd Annual Prelude wreath decorating workshop! Bring your girls over to the Town House School to decorate your own wreath to bring home! This event is 21 & up\, BYOB. \n$50 per person\, includes a wreath & all decorating materials \nClick HERE to sign up!
URL:https://kporths.com/event/girls-night-out-wreath-decorating/
LOCATION:Town House School\, 135 North Street\, Kennebunkport\, 04046\, United States
CATEGORIES:Prelude
END:VEVENT
END:VCALENDAR