BEGIN:VCALENDAR
VERSION:2.0
PRODID:-//Kennebunkport Historical Society - ECPv6.0.13//NONSGML v1.0//EN
CALSCALE:GREGORIAN
METHOD:PUBLISH
X-ORIGINAL-URL:https://kporths.com
X-WR-CALDESC:Events for Kennebunkport Historical Society
REFRESH-INTERVAL;VALUE=DURATION:PT1H
X-Robots-Tag:noindex
X-PUBLISHED-TTL:PT1H
BEGIN:VTIMEZONE
TZID:UTC
BEGIN:STANDARD
TZOFFSETFROM:+0000
TZOFFSETTO:+0000
TZNAME:UTC
DTSTART:20230101T000000
END:STANDARD
END:VTIMEZONE
BEGIN:VEVENT
DTSTART;TZID=UTC:20231130T180000
DTEND;TZID=UTC:20231130T210000
DTSTAMP:20260422T215619
CREATED:20230927T144206Z
LAST-MODIFIED:20231007T144037Z
UID:20784-1701367200-1701378000@kporths.com
SUMMARY:Prelude Gala: A Victorian Christmas
DESCRIPTION:Prelude Gala: A Victorian Christmas\nNovember 30th from 6pm – 9pm\nLocated at White Columns\n8 Maine St. in Kennebunkport\nPrelude Gala: A Victorian Christmas \nCome join us for a delightful evening at the Prelude Gala: A Victorian Christmas! Get ready to step back in time and experience the charm and elegance of the Victorian era.  \nMark your calendars for Thursday\, November 30\, 2023\, as we kick off Kennebunkport’s Prelude at 8 Maine Street\, Kennebunkport\, ME 04046. The venue will be beautifully decorated in true Victorian fashion\, creating a magical atmosphere that will make you feel like you’ve entered a Christmas wonderland. \nImmerse yourself in the spirit of the season as you mingle with fellow guests\, enjoy live music\, indulge in delectable treats\, and sip on festive beverages that will warm your heart\, and win valued prizes in the silent auction!  \nJoin us for an unforgettable night of merriment and make this holiday season truly special. We can’t wait to welcome you to this charming celebration! \n$75 for Non-Members \n$60 for Members \nClick HERE for Tickets!
URL:https://kporths.com/event/prelude-gala-a-victorian-christmas/
LOCATION:White Columns\, 8 Maine Street\, Kennebunkport\, ME\, 04046\, United States
CATEGORIES:Prelude,Reception
END:VEVENT
END:VCALENDAR