BEGIN:VCALENDAR
VERSION:2.0
PRODID:-//Kennebunkport Historical Society - ECPv6.0.13//NONSGML v1.0//EN
CALSCALE:GREGORIAN
METHOD:PUBLISH
X-WR-CALNAME:Kennebunkport Historical Society
X-ORIGINAL-URL:https://kporths.com
X-WR-CALDESC:Events for Kennebunkport Historical Society
REFRESH-INTERVAL;VALUE=DURATION:PT1H
X-Robots-Tag:noindex
X-PUBLISHED-TTL:PT1H
BEGIN:VTIMEZONE
TZID:UTC
BEGIN:STANDARD
TZOFFSETFROM:+0000
TZOFFSETTO:+0000
TZNAME:UTC
DTSTART:20230101T000000
END:STANDARD
END:VTIMEZONE
BEGIN:VEVENT
DTSTART;TZID=UTC:20231209T100000
DTEND;TZID=UTC:20231209T160000
DTSTAMP:20260422T215513
CREATED:20230928T144030Z
LAST-MODIFIED:20230928T144827Z
UID:20833-1702116000-1702137600@kporths.com
SUMMARY:House Tours at White Columns
DESCRIPTION:House Tours at White Columns\nBuilt in 1853\, White Columns is one of the Kennebunkport Historical Society’s premier properties. Owned and loved by the same family for 130 years\, the Victorian-era home has retained its old-world charm and still contains the home’s original furnishings. Step back in time by taking a guided tour. Docents will lead you through seven rooms of the stately home and share stories about three generations of the Perkins-Nott family that lived\, loved and lost in this magnificent Greek revival mansion. The tour includes history of Kennebunkport\, its shipbuilding and maritime traditions\, and the intriguing story of the family that inhabited the home. \n  \nClick HERE for more details!
URL:https://kporths.com/event/house-tours-at-white-columns-9/
LOCATION:White Columns\, 8 Maine Street\, Kennebunkport\, ME\, 04046\, United States
CATEGORIES:Prelude,Tour
END:VEVENT
BEGIN:VEVENT
DTSTART;TZID=UTC:20231209T130000
DTEND;TZID=UTC:20231209T150000
DTSTAMP:20260422T215513
CREATED:20230927T163002Z
LAST-MODIFIED:20231007T144251Z
UID:20805-1702126800-1702134000@kporths.com
SUMMARY:Kennebunkport Prelude Historic Walking Tours
DESCRIPTION:Kennebunkport Prelude Historic Walking Tours\nSaturday\, December 9th from 1pm – 3pm\nLocated at White Columns\n8 Maine St. in Kennebunkport\nExplore the charm of Kennebunkport’s history on our lively walking tours during the town’s Christas Prelude Event! \nExperience the history of Kennebunkport’s Dock Square. Enjoy a guided tour filled with the social\, cultural\, and architectural stories of the people who lived here. This 45-minute to 1-hour tour cover approximately 3/4 miles on uneven sidewalks with slight elevation. Please be mindful of this before reserving the tour. On our walking tour\, guests get a first-hand look at the homes and streets of historic Kennebunkport. The narrative covers the architecture of the homes and stories of the families who built them. \n  \nTours run on the hour: 1pm\, 2pm\, and 3pm. \nTickets sold in Advance. Click HERE for tickets! \n$20 Per Person \nLimited Space Available!
URL:https://kporths.com/event/kennebunkport-prelude-historic-walking-tours-3/
LOCATION:White Columns\, 8 Maine Street\, Kennebunkport\, ME\, 04046\, United States
CATEGORIES:Prelude,Tour
END:VEVENT
BEGIN:VEVENT
DTSTART;TZID=UTC:20231209T190000
DTEND;TZID=UTC:20231209T210000
DTSTAMP:20260422T215513
CREATED:20230216T160643Z
LAST-MODIFIED:20231108T151627Z
UID:19250-1702148400-1702155600@kporths.com
SUMMARY:Christmas Concert with Dan Blakeslee & The Calabash Club
DESCRIPTION:Christmas Concert with Dan Blakeslee & the Calabash Club\nSaturday\, December 9th at 7pm\nLocated at the Town House School (135 North Street in Kennebunkport)\nWith a suitcase of songs\, Maine folk troubadour Dan Blakeslee ventured into the subways of Boston in 1995 to practice his craft. He has been making music and art throughout New England ever since\, leading him to tour the U.S. performing with Langhorne Slim\, The Low Anthem\, David Wax Museum\, Lydia Loveless\, The Lumineers\, Old 97′s\, Brown Bird\, Josh Ritter\, Death Vessel and Kimya Dawson among others. In 2015 his dream of playing Newport Folk Festival became a reality\, where Bob Dylan went electric 50 years earlier. Blakeslee’s band The Calabash Club formed in 2008 and released their third album together “Christmasland Jubilee” a rollicking\, jubilant Christmas album on December 1\, 2020. Blakeslee is unafraid to bare his very soul on stage\, emptying a loaded cache of emotion and passion onto the stage for all to witness\, explore and devour. \nLearn more about Dan Blakeslee & the Calabash Club: https://danblakeslee.com/ \nTickets are available at the door or presale online (link below). \n$18 for Non-Members \n$15 for Members \nClick HERE to get your tickets!
URL:https://kporths.com/event/dan-blakeslee-concert-tbd-3/
LOCATION:Town House School\, 135 North Street\, Kennebunkport\, 04046\, United States
CATEGORIES:Live Performance,Prelude
END:VEVENT
END:VCALENDAR