BEGIN:VCALENDAR
VERSION:2.0
PRODID:-//Kennebunkport Historical Society - ECPv6.0.13//NONSGML v1.0//EN
CALSCALE:GREGORIAN
METHOD:PUBLISH
X-ORIGINAL-URL:https://kporths.com
X-WR-CALDESC:Events for Kennebunkport Historical Society
REFRESH-INTERVAL;VALUE=DURATION:PT1H
X-Robots-Tag:noindex
X-PUBLISHED-TTL:PT1H
BEGIN:VTIMEZONE
TZID:UTC
BEGIN:STANDARD
TZOFFSETFROM:+0000
TZOFFSETTO:+0000
TZNAME:UTC
DTSTART:20250101T000000
END:STANDARD
END:VTIMEZONE
BEGIN:VEVENT
DTSTART;TZID=UTC:20251205T100000
DTEND;TZID=UTC:20251205T150000
DTSTAMP:20260422T083618
CREATED:20250903T160323Z
LAST-MODIFIED:20250903T160720Z
UID:25159-1764928800-1764946800@kporths.com
SUMMARY:Victorian Era Mansion Tours at White Columns
DESCRIPTION:Victorian Era Mansion Tours\nat White Columns\nBuilt in 1853\, White Columns is one of the Kennebunkport Historical Society’s premier properties. Owned and loved by the same family for 130 years\, the Victorian-era home has retained its old-world charm and still contains the home’s original furnishings. Step back in time by taking a guided tour. Docents will lead you through seven rooms of the stately home and share stories about three generations of the Perkins-Nott family that lived\, loved and lost in this magnificent Greek revival mansion. The tour includes history of Kennebunkport\, its shipbuilding and maritime traditions\, and the intriguing story of the family that inhabited the home. \nPurchase your tour ticket online and redeem it at White Columns during any of our operating hours. Tours are available on the hour\, and your ticket can be used at any time\, with no need to reserve a specific date. Please note\, each tour is limited to 20-25 participants\, and availability is first-come\, first-served. To ensure your spot\, we recommend arriving 15-20 minutes before your preferred tour time. Simply print your ticket and bring it with you when you visit! Tickets will also be available in the gift shop based on availability. \nClick HERE for advanced tickets. \nClick HERE for more details about the house tour. \nClick HERE for Prelude Tour Schedule & Events
URL:https://kporths.com/event/victorian-era-mansion-tours-at-white-columns/
LOCATION:White Columns\, 8 Maine Street\, Kennebunkport\, ME\, 04046\, United States
CATEGORIES:Prelude,Tour
END:VEVENT
BEGIN:VEVENT
DTSTART;TZID=UTC:20251205T100000
DTEND;TZID=UTC:20251205T160000
DTSTAMP:20260422T083618
CREATED:20250904T130048Z
LAST-MODIFIED:20250904T130254Z
UID:25200-1764928800-1764950400@kporths.com
SUMMARY:Maine-Made Artisans Craft Fair
DESCRIPTION:Maine-Made Artisans Craft Fair\nLocated Under the Heated Tent\nWhite Columns\n8 Maine St. in Kennebunkport\n\nJoin the Kennebunkport Historical Society’s for our 3rd annual Maine Made Artisan Craft Show! Get ready to immerse yourself in a celebration of creativity and craftsmanship! \nIndulge your senses as you explore a diverse collection of unique and handcrafted treasures. Discover an array of exquisite jewelry\, mesmerizing paintings\, intricate crafts\, and so much more. \nOur talented artisans from Maine will showcase their finest creations\, each piece reflecting their passion and expertise. \nWhether you’re an art enthusiast\, a collector\, or simply seeking inspiration\, this event offers something for everyone. Engage with the artists\, learn about their techniques\, and gain insight into their creative processes. \nIt’s a golden opportunity to support local artisans and take-home one-of-a-kind pieces that tell a story. \nFree to the General Public. We can’t wait to see you there!
URL:https://kporths.com/event/maine-made-artisans-craft-fair-3/
LOCATION:White Columns\, 8 Maine Street\, Kennebunkport\, ME\, 04046\, United States
CATEGORIES:Prelude
END:VEVENT
BEGIN:VEVENT
DTSTART;TZID=UTC:20251205T173000
DTEND;TZID=UTC:20251205T200000
DTSTAMP:20260422T083618
CREATED:20250925T150831Z
LAST-MODIFIED:20251001T152421Z
UID:25344-1764955800-1764964800@kporths.com
SUMMARY:Christmas Candlelight Market
DESCRIPTION:Christmas Candlelight Market\nMaine Made Artisan Craft Fair\nLocated Under the Heated Tent\nWhite Columns\n8 Maine St. in Kennebunkport\nJoin the Kennebunkport Historical Society for our 3rd Annual Maine Made Artisan Craft Fair — now with a special Christmas Candlelight / After Dark edition! \n\n\n \nFor three years\, our craft fair has been a beloved tradition from 10am–4pm. This year\, we’re bringing something new: an evening marketplace during our Candlelight Tour hours\, featuring fresh vendors and unique treasures you won’t want to miss. \n\n\n \nExplore an array of handcrafted works — from jewelry and fine art to one-of-a-kind décor and gifts — all made with passion by talented Maine artisans. Meet the makers\, learn their stories\, and find the perfect piece to take home. \n\n\n \nFree to the General Public. We can’t wait to see you there!
URL:https://kporths.com/event/christmas-candlelight-maine-made-artisans-craft-fair/
LOCATION:White Columns\, 8 Maine Street\, Kennebunkport\, ME\, 04046\, United States
CATEGORIES:Prelude
END:VEVENT
END:VCALENDAR