BEGIN:VCALENDAR
VERSION:2.0
PRODID:-//Kennebunkport Historical Society - ECPv6.0.13//NONSGML v1.0//EN
CALSCALE:GREGORIAN
METHOD:PUBLISH
X-WR-CALNAME:Kennebunkport Historical Society
X-ORIGINAL-URL:https://kporths.com
X-WR-CALDESC:Events for Kennebunkport Historical Society
REFRESH-INTERVAL;VALUE=DURATION:PT1H
X-Robots-Tag:noindex
X-PUBLISHED-TTL:PT1H
BEGIN:VTIMEZONE
TZID:UTC
BEGIN:STANDARD
TZOFFSETFROM:+0000
TZOFFSETTO:+0000
TZNAME:UTC
DTSTART:20220101T000000
END:STANDARD
END:VTIMEZONE
BEGIN:VEVENT
DTSTART;TZID=UTC:20220917T140000
DTEND;TZID=UTC:20220917T160000
DTSTAMP:20260421T130036
CREATED:20220908T144637Z
LAST-MODIFIED:20220912T150752Z
UID:18565-1663423200-1663430400@kporths.com
SUMMARY:Association of Former Intelligence Officers Meetings
DESCRIPTION:Association of Former Intelligence Officers Meetings\nAFIO/ME Meeting\nSeptember 17\, 2022\, 2 p.m.\nKennebunkport Historical Society\nThe Town House School\n135 North Street\, Kennebunkport\, ME\n\nKENNEBUNK — Rollie Flynn\, a retired operations officer and senior executive at the CIA\, will examine the past and future missions of the intelligence agency at the September 17th meeting of the Association of Former Intelligence Officers (AFIO)\, Maine Chapter. \nFlynn’s presentation will include insights from her 30-year career as an undercover case officer\, chief of station and senior leadership of CIA global counterterrorism operations. \nHer presentation will explore what’s new and what’s old in intelligence operations. She will explain how our Intelligence priorities and tradecraft have changed two decades into the 21st Century. \nTopics are expected to include discussion of new threats from both traditional and non-traditional adversaries; the potential for politicization of CIA activities; increased scrutiny by Congress and the media; and ethical dilemmas inherent to all intelligence operations. \nIn retirement\, Flynn has taught graduate courses at Georgetown University’s School of Foreign Service and Fordham University’s Graduate School of Business. She is a member of the Council on Foreign Relations\, an Adjunct Staff member at Rand Corporation\, a member of the advisory board of the International Spy Museum\, and a has appeared on NBC\, CNN\, and other media outlets as an expert on intelligence matters and terrorism.
URL:https://kporths.com/event/town-house-school-rental-private-event-4/
LOCATION:Town House School\, 135 North Street\, Kennebunkport\, 04046\, United States
CATEGORIES:Rental
END:VEVENT
END:VCALENDAR