BEGIN:VCALENDAR
VERSION:2.0
PRODID:-//Kennebunkport Historical Society - ECPv6.0.13//NONSGML v1.0//EN
CALSCALE:GREGORIAN
METHOD:PUBLISH
X-WR-CALNAME:Kennebunkport Historical Society
X-ORIGINAL-URL:https://kporths.com
X-WR-CALDESC:Events for Kennebunkport Historical Society
REFRESH-INTERVAL;VALUE=DURATION:PT1H
X-Robots-Tag:noindex
X-PUBLISHED-TTL:PT1H
BEGIN:VTIMEZONE
TZID:UTC
BEGIN:STANDARD
TZOFFSETFROM:+0000
TZOFFSETTO:+0000
TZNAME:UTC
DTSTART:20220101T000000
END:STANDARD
END:VTIMEZONE
BEGIN:VEVENT
DTSTART;TZID=UTC:20221002T090000
DTEND;TZID=UTC:20221002T140000
DTSTAMP:20260421T112444
CREATED:20220908T144352Z
LAST-MODIFIED:20220908T144352Z
UID:18559-1664701200-1664719200@kporths.com
SUMMARY:Town House School Rental: Private Event
DESCRIPTION:
URL:https://kporths.com/event/town-house-school-rental-private-event-2/
LOCATION:Town House School\, 135 North Street\, Kennebunkport\, 04046\, United States
CATEGORIES:Rental
END:VEVENT
END:VCALENDAR