BEGIN:VCALENDAR
VERSION:2.0
PRODID:-//Kennebunkport Historical Society - ECPv6.0.13//NONSGML v1.0//EN
CALSCALE:GREGORIAN
METHOD:PUBLISH
X-ORIGINAL-URL:https://kporths.com
X-WR-CALDESC:Events for Kennebunkport Historical Society
REFRESH-INTERVAL;VALUE=DURATION:PT1H
X-Robots-Tag:noindex
X-PUBLISHED-TTL:PT1H
BEGIN:VTIMEZONE
TZID:UTC
BEGIN:STANDARD
TZOFFSETFROM:+0000
TZOFFSETTO:+0000
TZNAME:UTC
DTSTART:20260101T000000
END:STANDARD
END:VTIMEZONE
BEGIN:VEVENT
DTSTART;TZID=UTC:20260504T140000
DTEND;TZID=UTC:20260504T160000
DTSTAMP:20260420T134451
CREATED:20260317T133241Z
LAST-MODIFIED:20260317T133414Z
UID:26396-1777903200-1777910400@kporths.com
SUMMARY:New Volunteer Open House
DESCRIPTION:New Volunteer Open House\nMonday\, May 4th at 2pm\nLocated at the Pasco Center\n125 North St. in Kennebunkport\nVolunteering with the Kennebunkport Historical Society lets you preserve local history\, grow skills\, and make a difference. Join us to connect with the community\, learn new things\, and be part of preserving our heritage. \nCurious about volunteering with us? Stop by our Volunteer Open House to meet us\, learn about opportunities\, and see how you can get involved. \nClick HERE to RSVP!
URL:https://kporths.com/event/new-volunteer-open-house-9/
LOCATION:Pasco Center\, 125 North Street\, Kennebunkport\, ME\, 04046\, United States
CATEGORIES:Volunteer
END:VEVENT
END:VCALENDAR